BEGIN:VCALENDAR
VERSION:2.0
PRODID:-//Contratero//ES
CALSCALE:GREGORIAN
METHOD:PUBLISH
BEGIN:VEVENT
UID:82/2025 SV PA SARA@contratero.es
DTSTAMP:20260420T210128Z
DTSTART:20251120T235959
DTEND:20251121T005959
SUMMARY:Cierre: Contratación de los servicios para la realización 
DESCRIPTION:Contratación de los servicios para la realización de las actuaciones recogidas en el proyecto presentado por Diputación de Cáceres a la convocatoria de subvenciones determinada en la Orden ITU/537/202...\\n\\nOrganismo: Presidencia de la Diputación Provincial de Cáceres\\n\\nVer en Contratero: https://contratero.es/contracts/82/2025 SV PA SARA
URL:https://contratero.es/contracts/82/2025 SV PA SARA
STATUS:CONFIRMED
BEGIN:VALARM
TRIGGER:-P1D
ACTION:DISPLAY
DESCRIPTION:Recordatorio: Contratación de los servicios 
END:VALARM
END:VEVENT
END:VCALENDAR